BEGIN:VCALENDAR
VERSION:2.0
METHOD:PUBLISH
PRODID:-//Accessible Web Design//My Calendar//http://www.joedolson.com//v//EN';
BEGIN:VEVENT
UID:20-20
LOCATION:
SUMMARY:Schultüten basteln
DTSTAMP:20220523T143000
ORGANIZER;CN=leitung19:MAILTO:leitung@kindergarten-oberpleis.de
DTSTART:20220523T143000
DTEND:20220523T163000
CATEGORIES:General
URL;VALUE=URI:http://www.kindergarten-oberpleis.de/mc-events/schultueten-basteln/?mc_id=20
DESCRIPTION:
END:VEVENT
END:VCALENDAR