BEGIN:VCALENDAR
VERSION:2.0
METHOD:PUBLISH
PRODID:-//Accessible Web Design//My Calendar//http://www.joedolson.com//v//EN';
BEGIN:VEVENT
UID:25-25
LOCATION:
SUMMARY:Weihnachtsfeier in der Pusteblume
DTSTAMP:20221216T163000
ORGANIZER;CN=leitung19:MAILTO:leitung@kindergarten-oberpleis.de
DTSTART:20221216T163000
DTEND:20221216T183000
CATEGORIES:General
URL;VALUE=URI:http://www.kindergarten-oberpleis.de/mc-events/weihnachtsfeier-in-der-pusteblume/?mc_id=25
DESCRIPTION:
END:VEVENT
END:VCALENDAR