BEGIN:VCALENDAR
VERSION:2.0
METHOD:PUBLISH
PRODID:-//Accessible Web Design//My Calendar//http://www.joedolson.com//v//EN';
BEGIN:VEVENT
UID:29-29
LOCATION:
SUMMARY:Sommerferien in der Pusteblume
DTSTAMP:20230717
ORGANIZER;CN=leitung19:MAILTO:leitung@kindergarten-oberpleis.de
DTSTART:20230717
DTEND:20230805
CATEGORIES:General
URL;VALUE=URI:http://www.kindergarten-oberpleis.de/mc-events/sommerferien-in-der-pusteblume-2/?mc_id=29
DESCRIPTION:
X-FUNAMBOL-ALLDAY: 1
X-MICROSOFT-CDO-ALLDAYEVENT: TRUE

END:VEVENT
END:VCALENDAR