BEGIN:VCALENDAR
VERSION:2.0
METHOD:PUBLISH
PRODID:-//Accessible Web Design//My Calendar//http://www.joedolson.com//v//EN';
BEGIN:VEVENT
UID:33-33
LOCATION:
SUMMARY:Die Kindergartenfotografin kommt
DTSTAMP:20221109T083000
ORGANIZER;CN=leitung19:MAILTO:leitung@kindergarten-oberpleis.de
DTSTART:20221109T083000
DTEND:20221109T093000
CATEGORIES:General
URL;VALUE=URI:http://www.kindergarten-oberpleis.de/mc-events/die-kindergartenfotografin-kommt-2/?mc_id=33
DESCRIPTION:
END:VEVENT
END:VCALENDAR