BEGIN:VCALENDAR
VERSION:2.0
METHOD:PUBLISH
PRODID:-//Accessible Web Design//My Calendar//http://www.joedolson.com//v//EN';
BEGIN:VEVENT
UID:8-8
LOCATION:
SUMMARY:Osterfrühstück &amp; Eiersuche
DTSTAMP:20220414T000000
ORGANIZER;CN=admin:MAILTO:chr@chrchr.de
DTSTART:20220414T000000
DTEND:20220414T010000
CATEGORIES:General
URL;VALUE=URI:http://www.kindergarten-oberpleis.de/mc-events/osterfruehstueck-eiersuche/?mc_id=8
DESCRIPTION:
END:VEVENT
END:VCALENDAR