BEGIN:VCALENDAR
VERSION:2.0
METHOD:PUBLISH
PRODID:-//Accessible Web Design//My Calendar//http://www.joedolson.com//v//EN';
BEGIN:VEVENT
UID:6-6
LOCATION:
SUMMARY:Großelternfest (wird auf Grund der aktuellen Lage verschoben )
DTSTAMP:20220301
ORGANIZER;CN=admin:MAILTO:chr@chrchr.de
DTSTART:20220301
DTEND:20220302
CATEGORIES:General
URL;VALUE=URI:http://www.kindergarten-oberpleis.de/mc-events/grosselternfest-wird-auf-grund-der-aktuellen-lage-verschoben/?mc_id=6
DESCRIPTION:
X-FUNAMBOL-ALLDAY: 1
X-MICROSOFT-CDO-ALLDAYEVENT: TRUE

END:VEVENT
END:VCALENDAR